BEGIN:VCALENDAR
VERSION:2.0
PRODID:-//Coplay Saengerbund - ECPv4.6.26//NONSGML v1.0//EN
CALSCALE:GREGORIAN
METHOD:PUBLISH
X-WR-CALNAME:Coplay Saengerbund
X-ORIGINAL-URL:https://coplaysaengerbund.com
X-WR-CALDESC:Events for Coplay Saengerbund
BEGIN:VEVENT
DTSTART;VALUE=DATE:20240204
DTEND;VALUE=DATE:20240205
DTSTAMP:20260422T235650
CREATED:20231206T210150Z
LAST-MODIFIED:20231206T210150Z
UID:1876-1707004800-1707091199@coplaysaengerbund.com
SUMMARY:Steelworkers
DESCRIPTION:
URL:https://coplaysaengerbund.com/event/steelworkers-8/
END:VEVENT
END:VCALENDAR