BEGIN:VCALENDAR
VERSION:2.0
PRODID:-//Coplay Saengerbund - ECPv4.6.26//NONSGML v1.0//EN
CALSCALE:GREGORIAN
METHOD:PUBLISH
X-WR-CALNAME:Coplay Saengerbund
X-ORIGINAL-URL:https://coplaysaengerbund.com
X-WR-CALDESC:Events for Coplay Saengerbund
BEGIN:VEVENT
DTSTART;TZID=America/New_York:20220522T150000
DTEND;TZID=America/New_York:20220522T150000
DTSTAMP:20260424T093029
CREATED:20211227T152507Z
LAST-MODIFIED:20211227T152507Z
UID:1500-1653231600-1653231600@coplaysaengerbund.com
SUMMARY:Steelworkers
DESCRIPTION:
URL:https://coplaysaengerbund.com/event/steelworkers/
CATEGORIES:Bands
END:VEVENT
END:VCALENDAR