BEGIN:VCALENDAR
VERSION:2.0
PRODID:-//Coplay Saengerbund - ECPv4.6.26//NONSGML v1.0//EN
CALSCALE:GREGORIAN
METHOD:PUBLISH
X-WR-CALNAME:Coplay Saengerbund
X-ORIGINAL-URL:https://coplaysaengerbund.com
X-WR-CALDESC:Events for Coplay Saengerbund
BEGIN:VEVENT
DTSTART;TZID=America/New_York:20230929T170000
DTEND;TZID=America/New_York:20230929T220000
DTSTAMP:20260423T064736
CREATED:20230525T154153Z
LAST-MODIFIED:20230525T154153Z
UID:1787-1696006800-1696024800@coplaysaengerbund.com
SUMMARY:Stereotype
DESCRIPTION:
URL:https://coplaysaengerbund.com/event/stereotype-4/
END:VEVENT
END:VCALENDAR