BEGIN:VCALENDAR
VERSION:2.0
PRODID:-//Coplay Saengerbund - ECPv4.6.26//NONSGML v1.0//EN
CALSCALE:GREGORIAN
METHOD:PUBLISH
X-WR-CALNAME:Coplay Saengerbund
X-ORIGINAL-URL:https://coplaysaengerbund.com
X-WR-CALDESC:Events for Coplay Saengerbund
BEGIN:VEVENT
DTSTART;VALUE=DATE:20220513
DTEND;VALUE=DATE:20220514
DTSTAMP:20260424T093139
CREATED:20220318T133752Z
LAST-MODIFIED:20220318T133752Z
UID:1596-1652400000-1652486399@coplaysaengerbund.com
SUMMARY:Stereotype
DESCRIPTION:
URL:https://coplaysaengerbund.com/event/stereotype/
CATEGORIES:Bands
END:VEVENT
END:VCALENDAR