BEGIN:VCALENDAR
VERSION:2.0
PRODID:-//Coplay Saengerbund - ECPv4.6.26//NONSGML v1.0//EN
CALSCALE:GREGORIAN
METHOD:PUBLISH
X-WR-CALNAME:Coplay Saengerbund
X-ORIGINAL-URL:https://coplaysaengerbund.com
X-WR-CALDESC:Events for Coplay Saengerbund
BEGIN:VEVENT
DTSTART;TZID=America/New_York:20220312T190000
DTEND;TZID=America/New_York:20220312T220000
DTSTAMP:20260424T125121
CREATED:20220112T152204Z
LAST-MODIFIED:20220112T152204Z
UID:1569-1647111600-1647122400@coplaysaengerbund.com
SUMMARY:Steve & Steve
DESCRIPTION:No Cover\nKitchen open \n
URL:https://coplaysaengerbund.com/event/steve-steve/
CATEGORIES:Bands
END:VEVENT
END:VCALENDAR