BEGIN:VCALENDAR
VERSION:2.0
PRODID:-//Coplay Saengerbund - ECPv4.6.26//NONSGML v1.0//EN
CALSCALE:GREGORIAN
METHOD:PUBLISH
X-WR-CALNAME:Coplay Saengerbund
X-ORIGINAL-URL:https://coplaysaengerbund.com
X-WR-CALDESC:Events for Coplay Saengerbund
BEGIN:VEVENT
DTSTART;TZID=America/New_York:20230813T150000
DTEND;TZID=America/New_York:20230813T180000
DTSTAMP:20260423T082809
CREATED:20230804T141304Z
LAST-MODIFIED:20230804T141304Z
UID:1800-1691938800-1691949600@coplaysaengerbund.com
SUMMARY:Sunday Dance - Steelworkers
DESCRIPTION:
URL:https://coplaysaengerbund.com/event/sunday-dance-steelworkers/
END:VEVENT
END:VCALENDAR