BEGIN:VCALENDAR
VERSION:2.0
PRODID:-//Coplay Saengerbund - ECPv4.6.26//NONSGML v1.0//EN
CALSCALE:GREGORIAN
METHOD:PUBLISH
X-WR-CALNAME:Coplay Saengerbund
X-ORIGINAL-URL:https://coplaysaengerbund.com
X-WR-CALDESC:Events for Coplay Saengerbund
BEGIN:VEVENT
DTSTART;TZID=America/New_York:20230917T150000
DTEND;TZID=America/New_York:20230917T180000
DTSTAMP:20260423T084512
CREATED:20230804T141635Z
LAST-MODIFIED:20230804T141635Z
UID:1811-1694962800-1694973600@coplaysaengerbund.com
SUMMARY:Sunday Dances - Emil Schanta
DESCRIPTION:
URL:https://coplaysaengerbund.com/event/sunday-dances-emil-schanta-2/
END:VEVENT
END:VCALENDAR