BEGIN:VCALENDAR
VERSION:2.0
PRODID:-//Coplay Saengerbund - ECPv4.6.26//NONSGML v1.0//EN
CALSCALE:GREGORIAN
METHOD:PUBLISH
X-WR-CALNAME:Coplay Saengerbund
X-ORIGINAL-URL:https://coplaysaengerbund.com
X-WR-CALDESC:Events for Coplay Saengerbund
BEGIN:VEVENT
DTSTART;TZID=America/New_York:20231112T150000
DTEND;TZID=America/New_York:20231112T180000
DTSTAMP:20260423T033329
CREATED:20230804T142104Z
LAST-MODIFIED:20231027T184539Z
UID:1829-1699801200-1699812000@coplaysaengerbund.com
SUMMARY:Sunday Dances - Emil Schanta
DESCRIPTION:
URL:https://coplaysaengerbund.com/event/sunday-dances-emil-schanta-3/
END:VEVENT
END:VCALENDAR