BEGIN:VCALENDAR
VERSION:2.0
PRODID:-//Coplay Saengerbund - ECPv4.6.26//NONSGML v1.0//EN
CALSCALE:GREGORIAN
METHOD:PUBLISH
X-WR-CALNAME:Coplay Saengerbund
X-ORIGINAL-URL:https://coplaysaengerbund.com
X-WR-CALDESC:Events for Coplay Saengerbund
BEGIN:VEVENT
DTSTART;TZID=America/New_York:20231231T150000
DTEND;TZID=America/New_York:20231231T190000
DTSTAMP:20260423T000400
CREATED:20230804T142336Z
LAST-MODIFIED:20231213T202045Z
UID:1843-1704034800-1704049200@coplaysaengerbund.com
SUMMARY:Emil Schanta
DESCRIPTION:
URL:https://coplaysaengerbund.com/event/sunday-dances-emil-schanta-5/
END:VEVENT
END:VCALENDAR