BEGIN:VCALENDAR
VERSION:2.0
PRODID:-//Coplay Saengerbund - ECPv4.6.26//NONSGML v1.0//EN
CALSCALE:GREGORIAN
METHOD:PUBLISH
X-WR-CALNAME:Coplay Saengerbund
X-ORIGINAL-URL:https://coplaysaengerbund.com
X-WR-CALDESC:Events for Coplay Saengerbund
BEGIN:VEVENT
DTSTART;TZID=America/New_York:20231105T150000
DTEND;TZID=America/New_York:20231105T180000
DTSTAMP:20260423T033523
CREATED:20230804T142041Z
LAST-MODIFIED:20231027T184452Z
UID:1827-1699196400-1699207200@coplaysaengerbund.com
SUMMARY:Sunday Dances - Joe Kroboth - Country Dance
DESCRIPTION:
URL:https://coplaysaengerbund.com/event/sunday-dances-joe-kroboth-country-dance/
END:VEVENT
END:VCALENDAR