BEGIN:VCALENDAR
VERSION:2.0
PRODID:-//Coplay Saengerbund - ECPv4.6.26//NONSGML v1.0//EN
CALSCALE:GREGORIAN
METHOD:PUBLISH
X-WR-CALNAME:Coplay Saengerbund
X-ORIGINAL-URL:https://coplaysaengerbund.com
X-WR-CALDESC:Events for Coplay Saengerbund
BEGIN:VEVENT
DTSTART;TZID=America/New_York:20231029T150000
DTEND;TZID=America/New_York:20231029T180000
DTSTAMP:20260423T051818
CREATED:20230804T141918Z
LAST-MODIFIED:20230804T142427Z
UID:1823-1698591600-1698602400@coplaysaengerbund.com
SUMMARY:Sunday Dances - John & Marie
DESCRIPTION:
URL:https://coplaysaengerbund.com/event/sunday-dances-john-maria/
END:VEVENT
END:VCALENDAR