BEGIN:VCALENDAR
VERSION:2.0
PRODID:-//Coplay Saengerbund - ECPv4.6.26//NONSGML v1.0//EN
CALSCALE:GREGORIAN
METHOD:PUBLISH
X-WR-CALNAME:Coplay Saengerbund
X-ORIGINAL-URL:https://coplaysaengerbund.com
X-WR-CALDESC:Events for Coplay Saengerbund
BEGIN:VEVENT
DTSTART;TZID=America/New_York:20231126T150000
DTEND;TZID=America/New_York:20231126T180000
DTSTAMP:20260423T051935
CREATED:20230804T142143Z
LAST-MODIFIED:20231206T212614Z
UID:1832-1701010800-1701021600@coplaysaengerbund.com
SUMMARY:John & Marie
DESCRIPTION:
URL:https://coplaysaengerbund.com/event/sunday-dances-john-marie/
END:VEVENT
END:VCALENDAR