BEGIN:VCALENDAR
VERSION:2.0
PRODID:-//Coplay Saengerbund - ECPv4.6.26//NONSGML v1.0//EN
CALSCALE:GREGORIAN
METHOD:PUBLISH
X-WR-CALNAME:Coplay Saengerbund
X-ORIGINAL-URL:https://coplaysaengerbund.com
X-WR-CALDESC:Events for Coplay Saengerbund
BEGIN:VEVENT
DTSTART;TZID=America/New_York:20230903T150000
DTEND;TZID=America/New_York:20230903T180000
DTSTAMP:20260423T071046
CREATED:20230804T141502Z
LAST-MODIFIED:20230804T141502Z
UID:1807-1693753200-1693764000@coplaysaengerbund.com
SUMMARY:Sunday Dances - Jolly Bavarians
DESCRIPTION:
URL:https://coplaysaengerbund.com/event/sunday-dances-jolly-bavarians/
END:VEVENT
END:VCALENDAR