BEGIN:VCALENDAR
VERSION:2.0
PRODID:-//Coplay Saengerbund - ECPv4.6.26//NONSGML v1.0//EN
CALSCALE:GREGORIAN
METHOD:PUBLISH
X-WR-CALNAME:Coplay Saengerbund
X-ORIGINAL-URL:https://coplaysaengerbund.com
X-WR-CALDESC:Events for Coplay Saengerbund
BEGIN:VEVENT
DTSTART;VALUE=DATE:20231224
DTEND;VALUE=DATE:20231225
DTSTAMP:20260423T033114
CREATED:20230804T142316Z
LAST-MODIFIED:20231213T201917Z
UID:1841-1703376000-1703462399@coplaysaengerbund.com
SUMMARY:No Dance
DESCRIPTION:
URL:https://coplaysaengerbund.com/event/sunday-dances-no-dance-2/
END:VEVENT
END:VCALENDAR