BEGIN:VCALENDAR
VERSION:2.0
PRODID:-//Coplay Saengerbund - ECPv4.6.26//NONSGML v1.0//EN
CALSCALE:GREGORIAN
METHOD:PUBLISH
X-WR-CALNAME:Coplay Saengerbund
X-ORIGINAL-URL:https://coplaysaengerbund.com
X-WR-CALDESC:Events for Coplay Saengerbund
BEGIN:VEVENT
DTSTART;TZID=America/New_York:20230827T150000
DTEND;TZID=America/New_York:20230827T180000
DTSTAMP:20260423T065305
CREATED:20230804T141435Z
LAST-MODIFIED:20230804T141435Z
UID:1805-1693148400-1693159200@coplaysaengerbund.com
SUMMARY:Sunday Dances - No Dance
DESCRIPTION:
URL:https://coplaysaengerbund.com/event/sunday-dances-no-dance/
END:VEVENT
END:VCALENDAR