BEGIN:VCALENDAR
VERSION:2.0
PRODID:-//Coplay Saengerbund - ECPv4.6.26//NONSGML v1.0//EN
CALSCALE:GREGORIAN
METHOD:PUBLISH
X-WR-CALNAME:Coplay Saengerbund
X-ORIGINAL-URL:https://coplaysaengerbund.com
X-WR-CALDESC:Events for Coplay Saengerbund
BEGIN:VEVENT
DTSTART;TZID=America/New_York:20230924T150000
DTEND;TZID=America/New_York:20230924T180000
DTSTAMP:20260423T070505
CREATED:20230804T141654Z
LAST-MODIFIED:20230804T141654Z
UID:1813-1695567600-1695578400@coplaysaengerbund.com
SUMMARY:Sunday Dances - Polka Whoo
DESCRIPTION:
URL:https://coplaysaengerbund.com/event/sunday-dances-polka-whoo/
END:VEVENT
END:VCALENDAR