BEGIN:VCALENDAR
VERSION:2.0
PRODID:-//Coplay Saengerbund - ECPv4.6.26//NONSGML v1.0//EN
CALSCALE:GREGORIAN
METHOD:PUBLISH
X-WR-CALNAME:Coplay Saengerbund
X-ORIGINAL-URL:https://coplaysaengerbund.com
X-WR-CALDESC:Events for Coplay Saengerbund
BEGIN:VEVENT
DTSTART;TZID=America/New_York:20230225T190000
DTEND;TZID=America/New_York:20230225T220000
DTSTAMP:20260423T185026
CREATED:20230105T205355Z
LAST-MODIFIED:20230105T205355Z
UID:1675-1677351600-1677362400@coplaysaengerbund.com
SUMMARY:Tim Harakal
DESCRIPTION:
URL:https://coplaysaengerbund.com/event/tim-harakal/
CATEGORIES:Bands
END:VEVENT
END:VCALENDAR