BEGIN:VCALENDAR
VERSION:2.0
PRODID:-//Coplay Saengerbund - ECPv4.6.26//NONSGML v1.0//EN
CALSCALE:GREGORIAN
METHOD:PUBLISH
X-WR-CALNAME:Coplay Saengerbund
X-ORIGINAL-URL:https://coplaysaengerbund.com
X-WR-CALDESC:Events for Coplay Saengerbund
BEGIN:VEVENT
DTSTART;TZID=America/New_York:20230616T170000
DTEND;TZID=America/New_York:20230616T220000
DTSTAMP:20260423T121823
CREATED:20230525T152824Z
LAST-MODIFIED:20230525T153644Z
UID:1756-1686934800-1686952800@coplaysaengerbund.com
SUMMARY:Triple Dog Dare
DESCRIPTION:
URL:https://coplaysaengerbund.com/event/triple-dog-dare/
END:VEVENT
END:VCALENDAR