BEGIN:VCALENDAR
VERSION:2.0
PRODID:-//Coplay Saengerbund - ECPv4.6.26//NONSGML v1.0//EN
CALSCALE:GREGORIAN
METHOD:PUBLISH
X-WR-CALNAME:Coplay Saengerbund
X-ORIGINAL-URL:https://coplaysaengerbund.com
X-WR-CALDESC:Events for Coplay Saengerbund
BEGIN:VEVENT
DTSTART;VALUE=DATE:20220812
DTEND;VALUE=DATE:20220813
DTSTAMP:20260424T044000
CREATED:20220318T134217Z
LAST-MODIFIED:20220318T134217Z
UID:1622-1660262400-1660348799@coplaysaengerbund.com
SUMMARY:Uncle Smiley
DESCRIPTION:
URL:https://coplaysaengerbund.com/event/uncle-smiley/
CATEGORIES:Bands
END:VEVENT
END:VCALENDAR